BEGIN:VCALENDAR
PRODID:-//http://statistik.d-u-v.org//PHP ultracalendar//EN
VERSION:2.0
METHOD:PUBLISH
BEGIN:VEVENT
DTSTAMP:20260419T164530
CREATED:20241114T073737
UID:1776617130.0.38140800-112196@statistik.d-u-v.org
SUMMARY:Sweltering Summer Ultra 8 Hours Run
DESCRIPTION: Sweltering Summer Ultra 8 Hours Run\n
  Race Director Bennjamin Griffin\n
  benn.griffin[at]gmail.com
DTSTART:20240810T070000
DTEND:00000000T235900
LOCATION:Pittsfield, MA\, USA
URL:https://ultrasignup.com/register.aspx?did=59745
CATEGORIES:Ultramarathon
CONTACT:Race Director Bennjamin Griffin
CLASS:PUBLIC
PRIORITY:5
TRANSP:OPAQUE
END:VEVENT
END:VCALENDAR
