BEGIN:VCALENDAR
PRODID:-//http://statistik.d-u-v.org//PHP ultracalendar//EN
VERSION:2.0
METHOD:PUBLISH
BEGIN:VEVENT
DTSTAMP:20260422T211848
CREATED:20241114T014503
UID:1776892728.0.36469100-112183@statistik.d-u-v.org
SUMMARY:Divide Trail
DESCRIPTION: Divide Trail\n
  \n
  info[at]wpackevents.com
DTSTART:20240810T000000
DTEND:00000000T235900
LOCATION:Butte, MT\, USA
URL:https://www.wpackevents.com/
CATEGORIES:Ultramarathon
CONTACT:
CLASS:PUBLIC
PRIORITY:5
TRANSP:OPAQUE
END:VEVENT
END:VCALENDAR
