BEGIN:VCALENDAR
PRODID:-//http://statistik.d-u-v.org//PHP ultracalendar//EN
VERSION:2.0
METHOD:PUBLISH
BEGIN:VEVENT
DTSTAMP:20260423T020221
CREATED:20241113T072531
UID:1776909741.0.80227300-112124@statistik.d-u-v.org
SUMMARY:Hatcher Pass 50 Mile
DESCRIPTION: Hatcher Pass 50 Mile\n
  \n
  adventures[at]aktivesoles.com
DTSTART:20250802T050000
DTEND:00000000T235900
LOCATION:Willow, AK\, USA
URL:https://ultrasignup.com/register.aspx?did=120334
CATEGORIES:Ultramarathon
CONTACT:
CLASS:PUBLIC
PRIORITY:5
TRANSP:OPAQUE
END:VEVENT
END:VCALENDAR
