BEGIN:VCALENDAR
PRODID:-//http://statistik.d-u-v.org//PHP ultracalendar//EN
VERSION:2.0
METHOD:PUBLISH
BEGIN:VEVENT
DTSTAMP:20260419T185844
CREATED:20241112T234208
UID:1776625124.0.77301600-112117@statistik.d-u-v.org
SUMMARY:Porlahälsan Backyard Ultra
DESCRIPTION: Porlahälsan Backyard Ultra\n
  Jonas Brännmyr\n
  jonas.brannmyr[at]na.se
DTSTART:20250510T100000
DTEND:00000000T235900
LOCATION:Laxå\, SWE
URL:https://www.facebook.com/events/1238502630594633/
CATEGORIES:Ultramarathon
CONTACT:Jonas Brännmyr
CLASS:PUBLIC
PRIORITY:5
TRANSP:OPAQUE
END:VEVENT
END:VCALENDAR
