BEGIN:VCALENDAR
PRODID:-//http://statistik.d-u-v.org//PHP ultracalendar//EN
VERSION:2.0
METHOD:PUBLISH
BEGIN:VEVENT
DTSTAMP:20260425T192828
CREATED:20241113T013129
UID:1777145308.0.53232800-112108@statistik.d-u-v.org
SUMMARY:DURTY B-EE-RR-UN 6hr St. Pete Fat Ass
DESCRIPTION: DURTY B-EE-RR-UN 6hr St. Pete Fat Ass\n
  \n
  
DTSTART:20240803T060000
DTEND:00000000T235900
LOCATION:St. Petersburg, FL\, USA
URL:https://ultrasignup.com/register.aspx?did=113931
CATEGORIES:Ultramarathon
CONTACT:
CLASS:PUBLIC
PRIORITY:5
TRANSP:OPAQUE
END:VEVENT
END:VCALENDAR
