BEGIN:VCALENDAR
PRODID:-//http://statistik.d-u-v.org//PHP ultracalendar//EN
VERSION:2.0
METHOD:PUBLISH
BEGIN:VEVENT
DTSTAMP:20260423T031537
CREATED:20241111T145353
UID:1776914137.0.95493500-112045@statistik.d-u-v.org
SUMMARY:Blue Hill Mountain Trail Fest
DESCRIPTION: Blue Hill Mountain Trail Fest\n
  \n
  maction17[at]gmail.com
DTSTART:20250802T060000
DTEND:00000000T235900
LOCATION:Blue Hill, ME\, USA
URL:https://www.facebook.com/bhmtrailfest
CATEGORIES:Ultramarathon
CONTACT:
CLASS:PUBLIC
PRIORITY:5
TRANSP:OPAQUE
END:VEVENT
END:VCALENDAR
