BEGIN:VCALENDAR
PRODID:-//http://statistik.d-u-v.org//PHP ultracalendar//EN
VERSION:2.0
METHOD:PUBLISH
BEGIN:VEVENT
DTSTAMP:20260420T233239
CREATED:20241111T135325
UID:1776727959.0.91018800-112037@statistik.d-u-v.org
SUMMARY:Katcina Mosa 100K Mountain Run
DESCRIPTION: Katcina Mosa 100K Mountain Run\n
  John Bozung\n
  jbozung[at]aol.com
DTSTART:20250809T030000
DTEND:00000000T235900
LOCATION:Springville, UT\, USA
URL:https://ultrasignup.com/register.aspx?did=120282
CATEGORIES:Ultramarathon
CONTACT:John Bozung
CLASS:PUBLIC
PRIORITY:5
TRANSP:OPAQUE
END:VEVENT
END:VCALENDAR
