BEGIN:VCALENDAR
PRODID:-//http://statistik.d-u-v.org//PHP ultracalendar//EN
VERSION:2.0
METHOD:PUBLISH
BEGIN:VEVENT
DTSTAMP:20260423T040236
CREATED:20241111T152529
UID:1776916956.0.12574300-112022@statistik.d-u-v.org
SUMMARY:Feral Pig Ultra 100 km
DESCRIPTION: Feral Pig Ultra 100 km\n
  Race Director Shaun Kaesler\n
  info[at]ultraseries.com.au
DTSTART:20251108T060000
DTEND:00000000T235900
LOCATION:Mundaring, WA\, AUS
URL:http://feralpigultra.com.au
CATEGORIES:Ultramarathon
CONTACT:Race Director Shaun Kaesler
CLASS:PUBLIC
PRIORITY:5
TRANSP:OPAQUE
END:VEVENT
END:VCALENDAR
