BEGIN:VCALENDAR
PRODID:-//http://statistik.d-u-v.org//PHP ultracalendar//EN
VERSION:2.0
METHOD:PUBLISH
BEGIN:VEVENT
DTSTAMP:20260420T070808
CREATED:20241108T172631
UID:1776668888.0.55854200-111939@statistik.d-u-v.org
SUMMARY:Black River Trail Classic 85 Km
DESCRIPTION: Black River Trail Classic 85 Km\n
  \n
  hey[at]nurun.co
DTSTART:20251018T050000
DTEND:00000000T235900
LOCATION:Millston, WI\, USA
URL:https://ultrasignup.com/register.aspx?did=125822
CATEGORIES:Ultramarathon
CONTACT:
CLASS:PUBLIC
PRIORITY:5
TRANSP:OPAQUE
END:VEVENT
END:VCALENDAR
