BEGIN:VCALENDAR
PRODID:-//http://statistik.d-u-v.org//PHP ultracalendar//EN
VERSION:2.0
METHOD:PUBLISH
BEGIN:VEVENT
DTSTAMP:20260425T184155
CREATED:20241107T170310
UID:1777142515.0.50898500-111905@statistik.d-u-v.org
SUMMARY:Khardung La Challenge (Ladakh Ultramarathon)
DESCRIPTION: Khardung La Challenge (Ladakh Ultramarathon)\n
  Chewang Motup Goba\n
  info[at]ladakhmarathon.com; motup[at]ladakhmarathon.com
DTSTART:20250912T000000
DTEND:00000000T235900
LOCATION:Khardung village\, IND
URL:https://ladakhmarathon.com/races/khardung-la-challenge
CATEGORIES:Ultramarathon
CONTACT:Chewang Motup Goba
CLASS:PUBLIC
PRIORITY:5
TRANSP:OPAQUE
END:VEVENT
END:VCALENDAR
