BEGIN:VCALENDAR
PRODID:-//http://statistik.d-u-v.org//PHP ultracalendar//EN
VERSION:2.0
METHOD:PUBLISH
BEGIN:VEVENT
DTSTAMP:20260420T044128
CREATED:20241102T193216
UID:1776660088.0.25196400-111750@statistik.d-u-v.org
SUMMARY:Garmin Ultra Race Myslenice 78km
DESCRIPTION: Garmin Ultra Race Myslenice 78km\n
  \n
  
DTSTART:20240504T050000
DTEND:00000000T235900
LOCATION:Myslenice\, POL
URL:http://ultrarace.pl/myslenice
CATEGORIES:Ultramarathon
CONTACT:
CLASS:PUBLIC
PRIORITY:5
TRANSP:OPAQUE
END:VEVENT
END:VCALENDAR
