BEGIN:VCALENDAR
PRODID:-//http://statistik.d-u-v.org//PHP ultracalendar//EN
VERSION:2.0
METHOD:PUBLISH
BEGIN:VEVENT
DTSTAMP:20260420T073024
CREATED:20241101T191415
UID:1776670224.0.59892200-111726@statistik.d-u-v.org
SUMMARY:Trosa Backyard Ultra
DESCRIPTION: Trosa Backyard Ultra\n
  Niclas Bernhardsson\n
  info[at]enklaresport.se
DTSTART:20250426T100000
DTEND:00000000T235900
LOCATION:Trosa\, SWE
URL:http://www.trosaultrabackyard.se/
CATEGORIES:Ultramarathon
CONTACT:Niclas Bernhardsson
CLASS:PUBLIC
PRIORITY:5
TRANSP:OPAQUE
END:VEVENT
END:VCALENDAR
