BEGIN:VCALENDAR
PRODID:-//http://statistik.d-u-v.org//PHP ultracalendar//EN
VERSION:2.0
METHOD:PUBLISH
BEGIN:VEVENT
DTSTAMP:20260421T202334
CREATED:20241101T193455
UID:1776803014.0.75910500-111725@statistik.d-u-v.org
SUMMARY:Trail Sud Touraine - duo
DESCRIPTION: Trail Sud Touraine - duo\n
  \n
  contact[at]trailsudtouraine.fr
DTSTART:20250301T150000
DTEND:00000000T235900
LOCATION:Barrou\, FRA
URL:http://trailsudtouraine.fr
CATEGORIES:Ultramarathon
CONTACT:
CLASS:PUBLIC
PRIORITY:5
TRANSP:OPAQUE
END:VEVENT
END:VCALENDAR
