BEGIN:VCALENDAR
PRODID:-//http://statistik.d-u-v.org//PHP ultracalendar//EN
VERSION:2.0
METHOD:PUBLISH
BEGIN:VEVENT
DTSTAMP:20260425T233201
CREATED:20241027T150101
UID:1777159921.0.97969100-111545@statistik.d-u-v.org
SUMMARY:Raleigh Challenge Wilson Trail - Whole Course
DESCRIPTION: Raleigh Challenge Wilson Trail - Whole Course\n
  \n
  wilsontrail[at]raleigh.org.hk
DTSTART:20211004T200000
DTEND:20211006T235900
LOCATION:Hong Kong\, HKG
URL:https://raleighwilsontrail.hk/2018-results/
CATEGORIES:Ultramarathon
CONTACT:
CLASS:PUBLIC
PRIORITY:5
TRANSP:OPAQUE
END:VEVENT
END:VCALENDAR
