BEGIN:VCALENDAR
PRODID:-//http://statistik.d-u-v.org//PHP ultracalendar//EN
VERSION:2.0
METHOD:PUBLISH
BEGIN:VEVENT
DTSTAMP:20260420T044137
CREATED:20241026T131632
UID:1776660097.0.38576500-111522@statistik.d-u-v.org
SUMMARY:2000 km Lauf - Ultratriathlonitaly - 10d Split
DESCRIPTION: 2000 km Lauf - Ultratriathlonitaly - 10d Split\n
  Vincenzo Catalano\n
  decaironitaly[at]gmail.com
DTSTART:20240915T100000
DTEND:20240926T100000
LOCATION:Desenzano del Garda (BS)\, ITA
URL:https://www.ultratriathlonitaly.com/
CATEGORIES:Ultramarathon
CONTACT:Vincenzo Catalano
CLASS:PUBLIC
PRIORITY:5
TRANSP:OPAQUE
END:VEVENT
END:VCALENDAR
