BEGIN:VCALENDAR
PRODID:-//http://statistik.d-u-v.org//PHP ultracalendar//EN
VERSION:2.0
METHOD:PUBLISH
BEGIN:VEVENT
DTSTAMP:20260422T202710
CREATED:20241025T090544
UID:1776889630.0.65444800-111502@statistik.d-u-v.org
SUMMARY:Backyard Ultra Radomsko
DESCRIPTION: Backyard Ultra Radomsko\n
  Piotr Kuśmierczyk\n
  ultraradomsko[at]gmail.com; ultraradomsko[at]wp.pl
DTSTART:20250829T120000
DTEND:00000000T235900
LOCATION:Radomsko\, POL
URL:https://www.facebook.com/profile.php?id=61557338214864
CATEGORIES:Ultramarathon
CONTACT:Piotr Kuśmierczyk
CLASS:PUBLIC
PRIORITY:5
TRANSP:OPAQUE
END:VEVENT
END:VCALENDAR
