BEGIN:VCALENDAR
PRODID:-//http://statistik.d-u-v.org//PHP ultracalendar//EN
VERSION:2.0
METHOD:PUBLISH
BEGIN:VEVENT
DTSTAMP:20260422T194010
CREATED:20241025T131541
UID:1776886810.0.52496600-111501@statistik.d-u-v.org
SUMMARY:Leinetal-Ultra Winter Edition
DESCRIPTION: Leinetal-Ultra Winter Edition\n
  \n
  michaelkiene[at]gmx.de
DTSTART:20250125T080000
DTEND:00000000T235900
LOCATION:Northeim\, GER
URL:https://my.raceresult.com/315261/info
CATEGORIES:Ultramarathon
CONTACT:
CLASS:PUBLIC
PRIORITY:5
TRANSP:OPAQUE
END:VEVENT
END:VCALENDAR
