BEGIN:VCALENDAR
PRODID:-//http://statistik.d-u-v.org//PHP ultracalendar//EN
VERSION:2.0
METHOD:PUBLISH
BEGIN:VEVENT
DTSTAMP:20260425T195255
CREATED:20241024T035725
UID:1777146775.0.95818000-111458@statistik.d-u-v.org
SUMMARY:100 km Lauf Hirtenberg
DESCRIPTION: 100 km Lauf Hirtenberg\n
  Leo Halletz\n
  
DTSTART:19780630T000000
DTEND:00000000T235900
LOCATION:Hirtenberg\, AUT
URL:
CATEGORIES:Ultramarathon
CONTACT:Leo Halletz
CLASS:PUBLIC
PRIORITY:5
TRANSP:OPAQUE
END:VEVENT
END:VCALENDAR
