BEGIN:VCALENDAR
PRODID:-//http://statistik.d-u-v.org//PHP ultracalendar//EN
VERSION:2.0
METHOD:PUBLISH
BEGIN:VEVENT
DTSTAMP:20260425T170437
CREATED:20241023T151821
UID:1777136677.0.22591200-111439@statistik.d-u-v.org
SUMMARY:Santo Ultra Maranic - Hanshin Course
DESCRIPTION: Santo Ultra Maranic - Hanshin Course\n
  \n
  santoultra200[at]gmail.com
DTSTART:20181201T220000
DTEND:20181202T235900
LOCATION:Osaka, Osaka Pref.\, JPN
URL:http://mayu2016.a.la9.jp/santoultra/santoyoukou.html
CATEGORIES:Ultramarathon
CONTACT:
CLASS:PUBLIC
PRIORITY:5
TRANSP:OPAQUE
END:VEVENT
END:VCALENDAR
