BEGIN:VCALENDAR
PRODID:-//http://statistik.d-u-v.org//PHP ultracalendar//EN
VERSION:2.0
METHOD:PUBLISH
BEGIN:VEVENT
DTSTAMP:20260423T015029
CREATED:20241020T050027
UID:1776909029.0.41644100-111370@statistik.d-u-v.org
SUMMARY:Yizai Jincheng 80km
DESCRIPTION: Yizai Jincheng 80km\n
  \n
  
DTSTART:20240921T053000
DTEND:20240922T070000
LOCATION:Anping District\, TPE
URL:https://bao-ming.com/eb/content/6050#28549
CATEGORIES:Ultramarathon
CONTACT:
CLASS:PUBLIC
PRIORITY:5
TRANSP:OPAQUE
END:VEVENT
END:VCALENDAR
