BEGIN:VCALENDAR
PRODID:-//http://statistik.d-u-v.org//PHP ultracalendar//EN
VERSION:2.0
METHOD:PUBLISH
BEGIN:VEVENT
DTSTAMP:20260419T195310
CREATED:20241018T160118
UID:1776628390.0.27880900-111332@statistik.d-u-v.org
SUMMARY:Backyard Ultra World Team Championships - Australia
DESCRIPTION: Backyard Ultra World Team Championships - Australia\n
  Shaun Kaesler\n
  shaun[at]ultraserieswa.com.au
DTSTART:20241019T200000
DTEND:20241023T200000
LOCATION:Herdsman, WA\, AUS
URL:https://www.facebook.com/groups/687320385326738
CATEGORIES:Ultramarathon
CONTACT:Shaun Kaesler
CLASS:PUBLIC
PRIORITY:5
TRANSP:OPAQUE
END:VEVENT
END:VCALENDAR
