BEGIN:VCALENDAR
PRODID:-//http://statistik.d-u-v.org//PHP ultracalendar//EN
VERSION:2.0
METHOD:PUBLISH
BEGIN:VEVENT
DTSTAMP:20260420T035154
CREATED:20241018T002753
UID:1776657114.0.47162700-111315@statistik.d-u-v.org
SUMMARY:La Romagnatoise - Trail du Golloix
DESCRIPTION: La Romagnatoise - Trail du Golloix\n
  \n
  romagnatoise[at]yahoo.com
DTSTART:20250202T080000
DTEND:00000000T235900
LOCATION:Romagnat\, FRA
URL:https://asromagnat-athletisme.fr/la-romagnatoise/
CATEGORIES:Ultramarathon
CONTACT:
CLASS:PUBLIC
PRIORITY:5
TRANSP:OPAQUE
END:VEVENT
END:VCALENDAR
