BEGIN:VCALENDAR
PRODID:-//http://statistik.d-u-v.org//PHP ultracalendar//EN
VERSION:2.0
METHOD:PUBLISH
BEGIN:VEVENT
DTSTAMP:20260423T020640
CREATED:20241016T181323
UID:1776910000.0.28595800-111275@statistik.d-u-v.org
SUMMARY:Hungerford Trail Race 50 Mile
DESCRIPTION: Hungerford Trail Race 50 Mile\n
  Race Director Ben Talsma\n
  hungerfordgames[at]gmail.com
DTSTART:20250927T073200
DTEND:00000000T235900
LOCATION:Big Rapids, MI\, USA
URL:http://www.hungerfordgames.com/
CATEGORIES:Ultramarathon
CONTACT:Race Director Ben Talsma
CLASS:PUBLIC
PRIORITY:5
TRANSP:OPAQUE
END:VEVENT
END:VCALENDAR
