BEGIN:VCALENDAR
PRODID:-//http://statistik.d-u-v.org//PHP ultracalendar//EN
VERSION:2.0
METHOD:PUBLISH
BEGIN:VEVENT
DTSTAMP:20260419T140802
CREATED:20241014T232004
UID:1776607682.0.00418600-111252@statistik.d-u-v.org
SUMMARY:Tenerife Bluetrail By UTMB - 110km
DESCRIPTION: Tenerife Bluetrail By UTMB - 110km\n
  \n
  tenerife[at]service.utmb.world
DTSTART:20250328T230000
DTEND:20250330T030000
LOCATION:Los Cristianos, Tenerife\, ESP
URL:https://tenerife.utmb.world
CATEGORIES:Ultramarathon
CONTACT:
CLASS:PUBLIC
PRIORITY:5
TRANSP:OPAQUE
END:VEVENT
END:VCALENDAR
