BEGIN:VCALENDAR
PRODID:-//http://statistik.d-u-v.org//PHP ultracalendar//EN
VERSION:2.0
METHOD:PUBLISH
BEGIN:VEVENT
DTSTAMP:20260419T213347
CREATED:20241013T044553
UID:1776634427.0.67906800-111177@statistik.d-u-v.org
SUMMARY:Marji Gesick 100 Mile Ultra Race
DESCRIPTION: Marji Gesick 100 Mile Ultra Race\n
  \n
  info[at]906adventureteam.com
DTSTART:20240920T235900
DTEND:20240923T235900
LOCATION:Ishpeming, MI\, USA
URL:https://ultrasignup.com/register.aspx?did=109586
CATEGORIES:Ultramarathon
CONTACT:
CLASS:PUBLIC
PRIORITY:5
TRANSP:OPAQUE
END:VEVENT
END:VCALENDAR
