BEGIN:VCALENDAR
PRODID:-//http://statistik.d-u-v.org//PHP ultracalendar//EN
VERSION:2.0
METHOD:PUBLISH
BEGIN:VEVENT
DTSTAMP:20260419T192220
CREATED:20241011T141816
UID:1776626540.0.32343800-111130@statistik.d-u-v.org
SUMMARY:Lonely Mountain Ultra 100mi
DESCRIPTION: Lonely Mountain Ultra 100mi\n
  \n
  info[at]lonelymountainultra.com.au
DTSTART:20241005T000001
DTEND:00000000T235900
LOCATION:Orange, NSW\, AUS
URL:https://www.lonelymountainultra.com.au
CATEGORIES:Ultramarathon
CONTACT:
CLASS:PUBLIC
PRIORITY:5
TRANSP:OPAQUE
END:VEVENT
END:VCALENDAR
