BEGIN:VCALENDAR
PRODID:-//http://statistik.d-u-v.org//PHP ultracalendar//EN
VERSION:2.0
METHOD:PUBLISH
BEGIN:VEVENT
DTSTAMP:20260419T121605
CREATED:20240903T180740
UID:1776600965.0.26930000-110782@statistik.d-u-v.org
SUMMARY:BUFF-CEUS 24h European Cup
DESCRIPTION: BUFF-CEUS 24h European Cup\n
  Lengyel Ákos\n
  ultrarun.hungary[at]gmail.com
DTSTART:20260530T120000
DTEND:20260531T120000
LOCATION:Balatonfüred\, HUN
URL:http://runion.eu
CATEGORIES:Ultramarathon
CONTACT:Lengyel Ákos
CLASS:PUBLIC
PRIORITY:5
TRANSP:OPAQUE
END:VEVENT
END:VCALENDAR
