BEGIN:VCALENDAR
PRODID:-//http://statistik.d-u-v.org//PHP ultracalendar//EN
VERSION:2.0
METHOD:PUBLISH
BEGIN:VEVENT
DTSTAMP:20260419T135805
CREATED:20240903T181507
UID:1776607085.0.97268800-110780@statistik.d-u-v.org
SUMMARY:BUFF-CEUS 6h European Cup
DESCRIPTION: BUFF-CEUS 6h European Cup\n
  Lengyel Ákos\n
  ultrarun.hungary[at]gmail.com
DTSTART:20260531T060000
DTEND:20260531T120000
LOCATION:Balatonfüred\, HUN
URL:http://runion.eu
CATEGORIES:Ultramarathon
CONTACT:Lengyel Ákos
CLASS:PUBLIC
PRIORITY:5
TRANSP:OPAQUE
END:VEVENT
END:VCALENDAR
