BEGIN:VCALENDAR
PRODID:-//http://statistik.d-u-v.org//PHP ultracalendar//EN
VERSION:2.0
METHOD:PUBLISH
BEGIN:VEVENT
DTSTAMP:20260419T192219
CREATED:20240928T154507
UID:1776626539.0.04026100-110773@statistik.d-u-v.org
SUMMARY:Perseløpet ultra 100km
DESCRIPTION: Perseløpet ultra 100km\n
  Bjørn Saksberg\n
  bjorn[at]saksberg.com
DTSTART:20250503T080000
DTEND:00000000T235900
LOCATION:Eidsvoll\, NOR
URL:https://www.perselopet.com/
CATEGORIES:Ultramarathon
CONTACT:Bjørn Saksberg
CLASS:PUBLIC
PRIORITY:5
TRANSP:OPAQUE
END:VEVENT
END:VCALENDAR
