BEGIN:VCALENDAR
PRODID:-//http://statistik.d-u-v.org//PHP ultracalendar//EN
VERSION:2.0
METHOD:PUBLISH
BEGIN:VEVENT
DTSTAMP:20260424T120640
CREATED:20240924T155922
UID:1777032400.0.84118700-110719@statistik.d-u-v.org
SUMMARY:L'Étoile Verte D'Éguzon
DESCRIPTION: L'Étoile Verte D'Éguzon\n
  Jean-Benoit Jaouen\n
  transegaule[at]wanadoo.fr
DTSTART:20250824T073000
DTEND:20250829T235900
LOCATION:Eguzon-Chantome\, FRA
URL:http://www.la-transegaule.fr
CATEGORIES:Ultramarathon
CONTACT:Jean-Benoit Jaouen
CLASS:PUBLIC
PRIORITY:5
TRANSP:OPAQUE
END:VEVENT
END:VCALENDAR
