BEGIN:VCALENDAR
PRODID:-//http://statistik.d-u-v.org//PHP ultracalendar//EN
VERSION:2.0
METHOD:PUBLISH
BEGIN:VEVENT
DTSTAMP:20260423T015850
CREATED:20240918T080742
UID:1776909530.0.91302200-110682@statistik.d-u-v.org
SUMMARY:Rosalia Trail Challenge
DESCRIPTION: Rosalia Trail Challenge\n
  Markus Schwendenwein\n
  info[at]rosaliatrailchallenge.at
DTSTART:20250405T090000
DTEND:00000000T235900
LOCATION:Katzelsdorf\, AUT
URL:https://www.rosaliatrailchallenge.at/
CATEGORIES:Ultramarathon
CONTACT:Markus Schwendenwein
CLASS:PUBLIC
PRIORITY:5
TRANSP:OPAQUE
END:VEVENT
END:VCALENDAR
