BEGIN:VCALENDAR
PRODID:-//http://statistik.d-u-v.org//PHP ultracalendar//EN
VERSION:2.0
METHOD:PUBLISH
BEGIN:VEVENT
DTSTAMP:20260421T085132
CREATED:20240919T134831
UID:1776761492.0.73761700-110645@statistik.d-u-v.org
SUMMARY:Run Narawntapu 50 km Trail Race
DESCRIPTION: Run Narawntapu 50 km Trail Race\n
  \n
  runnarawntapu[at]gmail.com
DTSTART:20250504T000000
DTEND:00000000T235900
LOCATION:Greens Beach, TAS\, AUS
URL:https://www.facebook.com/RunNarawntapu/
CATEGORIES:Ultramarathon
CONTACT:
CLASS:PUBLIC
PRIORITY:5
TRANSP:OPAQUE
END:VEVENT
END:VCALENDAR
