BEGIN:VCALENDAR
PRODID:-//http://statistik.d-u-v.org//PHP ultracalendar//EN
VERSION:2.0
METHOD:PUBLISH
BEGIN:VEVENT
DTSTAMP:20260419T183213
CREATED:20240919T132639
UID:1776623533.0.99148000-110635@statistik.d-u-v.org
SUMMARY:Six Foot Track
DESCRIPTION: Six Foot Track\n
  \n
  info[at]sixfoot.com
DTSTART:20250906T070000
DTEND:00000000T235900
LOCATION:Katoomba, NSW\, AUS
URL:http://www.sixfoot.com
CATEGORIES:Ultramarathon
CONTACT:
CLASS:PUBLIC
PRIORITY:5
TRANSP:OPAQUE
END:VEVENT
END:VCALENDAR
