BEGIN:VCALENDAR
PRODID:-//http://statistik.d-u-v.org//PHP ultracalendar//EN
VERSION:2.0
METHOD:PUBLISH
BEGIN:VEVENT
DTSTAMP:20260419T140805
CREATED:20240918T015416
UID:1776607685.0.75030500-110619@statistik.d-u-v.org
SUMMARY:Grand Raid Ventoux by UTMB - 100K
DESCRIPTION: Grand Raid Ventoux by UTMB - 100K\n
  \n
  grandraidventoux[at]outlook.fr
DTSTART:20250426T083000
DTEND:20250427T033000
LOCATION:Malaucene\, FRA
URL:https://ventoux.utmb.world/fr/races/GRV100K
CATEGORIES:Ultramarathon
CONTACT:
CLASS:PUBLIC
PRIORITY:5
TRANSP:OPAQUE
END:VEVENT
END:VCALENDAR
