BEGIN:VCALENDAR
PRODID:-//http://statistik.d-u-v.org//PHP ultracalendar//EN
VERSION:2.0
METHOD:PUBLISH
BEGIN:VEVENT
DTSTAMP:20260419T211157
CREATED:20240911T191101
UID:1776633117.0.51965400-110509@statistik.d-u-v.org
SUMMARY:Angeles National Forest 50k Trail Race
DESCRIPTION: Angeles National Forest 50k Trail Race\n
  Race Director Gary Hilliard\n
  garyhilliard.rd[at]gmail.com
DTSTART:20250927T070000
DTEND:00000000T235900
LOCATION:Mt. Wilson, CA\, USA
URL:http://www.anftrailrace.com/
CATEGORIES:Ultramarathon
CONTACT:Race Director Gary Hilliard
CLASS:PUBLIC
PRIORITY:5
TRANSP:OPAQUE
END:VEVENT
END:VCALENDAR
