BEGIN:VCALENDAR
PRODID:-//http://statistik.d-u-v.org//PHP ultracalendar//EN
VERSION:2.0
METHOD:PUBLISH
BEGIN:VEVENT
DTSTAMP:20260420T030801
CREATED:20240908T150632
UID:1776654481.0.32294200-110430@statistik.d-u-v.org
SUMMARY:Tortura Todesberg Ultra (TTU)
DESCRIPTION: Tortura Todesberg Ultra (TTU)\n
  Mark-Nils Niederreuther\n
  tortura-koeln[at]freenet.de
DTSTART:20241020T080000
DTEND:00000000T235900
LOCATION:Köln\, GER
URL:http://www.tortura-köln.de/
CATEGORIES:Ultramarathon
CONTACT:Mark-Nils Niederreuther
CLASS:PUBLIC
PRIORITY:5
TRANSP:OPAQUE
END:VEVENT
END:VCALENDAR
