BEGIN:VCALENDAR
PRODID:-//http://statistik.d-u-v.org//PHP ultracalendar//EN
VERSION:2.0
METHOD:PUBLISH
BEGIN:VEVENT
DTSTAMP:20260423T023836
CREATED:20240905T175506
UID:1776911916.0.11178400-110415@statistik.d-u-v.org
SUMMARY:Great Shasta Rail Trail
DESCRIPTION: Great Shasta Rail Trail\n
  \n
  
DTSTART:20250726T000000
DTEND:00000000T235900
LOCATION:McCloud, CA\, USA
URL:https://intermountainendurance.godaddysites.com/
CATEGORIES:Ultramarathon
CONTACT:
CLASS:PUBLIC
PRIORITY:5
TRANSP:OPAQUE
END:VEVENT
END:VCALENDAR
