BEGIN:VCALENDAR
PRODID:-//http://statistik.d-u-v.org//PHP ultracalendar//EN
VERSION:2.0
METHOD:PUBLISH
BEGIN:VEVENT
DTSTAMP:20260423T080755
CREATED:20240905T175432
UID:1776931675.0.83753500-110414@statistik.d-u-v.org
SUMMARY:Great Shasta Rail Trail
DESCRIPTION: Great Shasta Rail Trail\n
  \n
  
DTSTART:20240727T000000
DTEND:00000000T235900
LOCATION:McCloud, CA\, USA
URL:https://intermountainendurance.godaddysites.com/
CATEGORIES:Ultramarathon
CONTACT:
CLASS:PUBLIC
PRIORITY:5
TRANSP:OPAQUE
END:VEVENT
END:VCALENDAR
