BEGIN:VCALENDAR
PRODID:-//http://statistik.d-u-v.org//PHP ultracalendar//EN
VERSION:2.0
METHOD:PUBLISH
BEGIN:VEVENT
DTSTAMP:20260423T000016
CREATED:20240905T165759
UID:1776902416.0.50987700-110409@statistik.d-u-v.org
SUMMARY:Sweat Hot Oklahoma Summer Trials 6h
DESCRIPTION: Sweat Hot Oklahoma Summer Trials 6h\n
  \n
  comana_switch_running[at]outlook.com
DTSTART:20240727T000000
DTEND:00000000T235900
LOCATION:Nowata, OK\, USA
URL:https://www.facebook.com/SHOST22
CATEGORIES:Ultramarathon
CONTACT:
CLASS:PUBLIC
PRIORITY:5
TRANSP:OPAQUE
END:VEVENT
END:VCALENDAR
