BEGIN:VCALENDAR
PRODID:-//http://statistik.d-u-v.org//PHP ultracalendar//EN
VERSION:2.0
METHOD:PUBLISH
BEGIN:VEVENT
DTSTAMP:20260423T022720
CREATED:20240905T114903
UID:1776911240.0.99367800-110393@statistik.d-u-v.org
SUMMARY:The Squatchung Surprise 6 Hour Race
DESCRIPTION: The Squatchung Surprise 6 Hour Race\n
  \n
  
DTSTART:20211002T090000
DTEND:00000000T235900
LOCATION:Mountainside, NJ\, USA
URL:https://www.facebook.com/events/223560334955674/
CATEGORIES:Ultramarathon
CONTACT:
CLASS:PUBLIC
PRIORITY:5
TRANSP:OPAQUE
END:VEVENT
END:VCALENDAR
