BEGIN:VCALENDAR
PRODID:-//http://statistik.d-u-v.org//PHP ultracalendar//EN
VERSION:2.0
METHOD:PUBLISH
BEGIN:VEVENT
DTSTAMP:20260419T200544
CREATED:20240905T091639
UID:1776629144.0.77661500-110390@statistik.d-u-v.org
SUMMARY:Moosalamoo Ultra
DESCRIPTION: Moosalamoo Ultra\n
  John Izzo\n
  moosalamoo.johnnyeyes[at]gmail.com
DTSTART:20240727T080000
DTEND:00000000T235900
LOCATION:Goshen, VT\, USA
URL:http://www.moosalamooultra.com/
CATEGORIES:Ultramarathon
CONTACT:John Izzo
CLASS:PUBLIC
PRIORITY:5
TRANSP:OPAQUE
END:VEVENT
END:VCALENDAR
