BEGIN:VCALENDAR
PRODID:-//http://statistik.d-u-v.org//PHP ultracalendar//EN
VERSION:2.0
METHOD:PUBLISH
BEGIN:VEVENT
DTSTAMP:20260420T081531
CREATED:20240905T074009
UID:1776672931.0.42935900-110387@statistik.d-u-v.org
SUMMARY:London 100
DESCRIPTION: London 100\n
  Darren Strachan\n
  info[at]caminoultra.com
DTSTART:20250510T070000
DTEND:00000000T235900
LOCATION:Victoria, London\, GBR
URL:https://www.london100km.com/
CATEGORIES:Ultramarathon
CONTACT:Darren Strachan
CLASS:PUBLIC
PRIORITY:5
TRANSP:OPAQUE
END:VEVENT
END:VCALENDAR
