BEGIN:VCALENDAR
PRODID:-//http://statistik.d-u-v.org//PHP ultracalendar//EN
VERSION:2.0
METHOD:PUBLISH
BEGIN:VEVENT
DTSTAMP:20260423T033557
CREATED:20240903T153856
UID:1776915357.0.02493400-110298@statistik.d-u-v.org
SUMMARY:Run 12 Hours - San Diego
DESCRIPTION: Run 12 Hours - San Diego\n
  \n
  
DTSTART:20240713T000000
DTEND:00000000T235900
LOCATION:San Diego, CA\, USA
URL:https://ultrasignup.com/register.aspx?did=116011
CATEGORIES:Ultramarathon
CONTACT:
CLASS:PUBLIC
PRIORITY:5
TRANSP:OPAQUE
END:VEVENT
END:VCALENDAR
