BEGIN:VCALENDAR
PRODID:-//http://statistik.d-u-v.org//PHP ultracalendar//EN
VERSION:2.0
METHOD:PUBLISH
BEGIN:VEVENT
DTSTAMP:20260424T141744
CREATED:20240902T195958
UID:1777040264.0.07205200-110273@statistik.d-u-v.org
SUMMARY:The Sufferings
DESCRIPTION: The Sufferings\n
  \n
  sussextrailevents[at]outlook.com
DTSTART:20240922T080000
DTEND:00000000T235900
LOCATION:Washington\, GBR
URL:https://www.sussextrailevents.com/
CATEGORIES:Ultramarathon
CONTACT:
CLASS:PUBLIC
PRIORITY:5
TRANSP:OPAQUE
END:VEVENT
END:VCALENDAR
