BEGIN:VCALENDAR
PRODID:-//http://statistik.d-u-v.org//PHP ultracalendar//EN
VERSION:2.0
METHOD:PUBLISH
BEGIN:VEVENT
DTSTAMP:20260422T222536
CREATED:20240902T163048
UID:1776896736.0.24471200-110260@statistik.d-u-v.org
SUMMARY:Chihuahua by UTMB - 100M
DESCRIPTION: Chihuahua by UTMB - 100M\n
  \n
  chihuahua[at]service.utmb.world
DTSTART:20251002T220000
DTEND:20251004T160000
LOCATION:Batopilas\, MEX
URL:https://chihuahua.utmb.world/races/100m
CATEGORIES:Ultramarathon
CONTACT:
CLASS:PUBLIC
PRIORITY:5
TRANSP:OPAQUE
END:VEVENT
END:VCALENDAR
