BEGIN:VCALENDAR
PRODID:-//http://statistik.d-u-v.org//PHP ultracalendar//EN
VERSION:2.0
METHOD:PUBLISH
BEGIN:VEVENT
DTSTAMP:20260423T014807
CREATED:20240902T154938
UID:1776908887.0.73605600-110244@statistik.d-u-v.org
SUMMARY:Val d'Aran by UTMB - Torn dera Val d'Aran
DESCRIPTION: Val d'Aran by UTMB - Torn dera Val d'Aran\n
  \n
  info[at]aranbyutmb.com
DTSTART:20250704T160000
DTEND:20250706T160000
LOCATION:Vielha\, ESP
URL:https://valdaran.utmb.world/races/VDA
CATEGORIES:Ultramarathon
CONTACT:
CLASS:PUBLIC
PRIORITY:5
TRANSP:OPAQUE
END:VEVENT
END:VCALENDAR
