BEGIN:VCALENDAR
PRODID:-//http://statistik.d-u-v.org//PHP ultracalendar//EN
VERSION:2.0
METHOD:PUBLISH
BEGIN:VEVENT
DTSTAMP:20260419T210248
CREATED:20110709T173957
UID:1776632568.0.41014700-11024@statistik.d-u-v.org
SUMMARY:FANS 24 Hour Runs
DESCRIPTION: FANS 24 Hour Runs\n
  \n
  
DTSTART:20000624T000000
DTEND:20000625T235900
LOCATION:Minneapolis, MN\, USA
URL:http://www.fans24hour.org/
CATEGORIES:Ultramarathon
CONTACT:
CLASS:PUBLIC
PRIORITY:5
TRANSP:OPAQUE
END:VEVENT
END:VCALENDAR
