BEGIN:VCALENDAR
PRODID:-//http://statistik.d-u-v.org//PHP ultracalendar//EN
VERSION:2.0
METHOD:PUBLISH
BEGIN:VEVENT
DTSTAMP:20260423T031325
CREATED:20240902T153026
UID:1776914005.0.63313500-110237@statistik.d-u-v.org
SUMMARY:Trail 100 Andorra by UTMB - Trail 50km
DESCRIPTION: Trail 100 Andorra by UTMB - Trail 50km\n
  \n
  trail100andorra[at]service.byutmb.world
DTSTART:20250614T073000
DTEND:00000000T235900
LOCATION:Ordino\, AND
URL:https://andorra.utmb.world/races/Trail-50K
CATEGORIES:Ultramarathon
CONTACT:
CLASS:PUBLIC
PRIORITY:5
TRANSP:OPAQUE
END:VEVENT
END:VCALENDAR
