BEGIN:VCALENDAR
PRODID:-//http://statistik.d-u-v.org//PHP ultracalendar//EN
VERSION:2.0
METHOD:PUBLISH
BEGIN:VEVENT
DTSTAMP:20260420T060804
CREATED:20240902T144949
UID:1776665284.0.35807900-110227@statistik.d-u-v.org
SUMMARY:Cry Me A River 100 Mile Trail Run
DESCRIPTION: Cry Me A River 100 Mile Trail Run\n
  \n
  crymearivertrailruns[at]yahoo.com
DTSTART:20240712T050000
DTEND:20240713T235900
LOCATION:Chillicothe, IL\, USA
URL:http://www.crymearivertrailruns.com/
CATEGORIES:Ultramarathon
CONTACT:
CLASS:PUBLIC
PRIORITY:5
TRANSP:OPAQUE
END:VEVENT
END:VCALENDAR
