BEGIN:VCALENDAR
PRODID:-//http://statistik.d-u-v.org//PHP ultracalendar//EN
VERSION:2.0
METHOD:PUBLISH
BEGIN:VEVENT
DTSTAMP:20260419T185837
CREATED:20240902T125031
UID:1776625117.0.93931100-110214@statistik.d-u-v.org
SUMMARY:Ultra-Trail Australia by UTMB - UTA50
DESCRIPTION: Ultra-Trail Australia by UTMB - UTA50\n
  \n
  ultratrailaustralia[at]service.byutmb.world
DTSTART:20250517T063000
DTEND:00000000T235900
LOCATION:Katoomba, NSW\, AUS
URL:https://uta.utmb.world/races/uta50
CATEGORIES:Ultramarathon
CONTACT:
CLASS:PUBLIC
PRIORITY:5
TRANSP:OPAQUE
END:VEVENT
END:VCALENDAR
